BEGIN:VCALENDAR
VERSION:2.0
PRODID:-//3nity.com//3nity CMS//EN
BEGIN:VEVENT
SUMMARY:Basic Chaplaincy Training - Lusaka, Zambia
UID:2026-07-18-1197962@www.hopeplaza.org
SEQUENCE:0
STATUS:CONFIRMED
DTSTART:20261030T080000
DTEND:20261030T150000
DTSTAMP:20161222T120000
DESCRIPTION:Basic 16 hours of Chaplaincy Training
URL:http://www.hopeplaza.org
END:VEVENT
END:VCALENDAR
