BEGIN:VCALENDAR
VERSION:2.0
PRODID:-//3nity.com//3nity CMS//EN
BEGIN:VEVENT
SUMMARY:Global United Fellowship - 7 in1 Gathering 2026
UID:2026-07-18-1198857@www.hopeplaza.org
SEQUENCE:0
STATUS:CONFIRMED
DTSTART:20260707T090000
DTEND:20260707T100000
DTSTAMP:20161222T120000
LOCATION: Sheraton Greensboro, Four Seasons, Greensboro, NC 
DESCRIPTION:Seminars on Effective Leadership and Leadership Essentials.
URL:http://www.hopeplaza.org
END:VEVENT
END:VCALENDAR
