BEGIN:VCALENDAR
VERSION:2.0
PRODID:-//3nity.com//3nity CMS//EN
BEGIN:VEVENT
SUMMARY:I.F.O.C. Connections Conference
UID:2026-07-18-1199277@www.hopeplaza.org
SEQUENCE:0
STATUS:CONFIRMED
DTSTART:20260907T090000
DTEND:20260908T060000
DTSTAMP:20161222T120000
DESCRIPTION:Discover creative ways to encourage others and to motivate them toward acts of compassion.
URL:http://www.hopeplaza.org
END:VEVENT
END:VCALENDAR
